BEGIN:VCALENDAR
VERSION:2.0
PRODID:-//St Mary&#039;s Church - ECPv6.15.20//NONSGML v1.0//EN
CALSCALE:GREGORIAN
METHOD:PUBLISH
X-ORIGINAL-URL:https://stmarysmicheldever.co.uk
X-WR-CALDESC:Events for St Mary&#039;s Church
REFRESH-INTERVAL;VALUE=DURATION:PT1H
X-Robots-Tag:noindex
X-PUBLISHED-TTL:PT1H
BEGIN:VTIMEZONE
TZID:Europe/London
BEGIN:DAYLIGHT
TZOFFSETFROM:+0000
TZOFFSETTO:+0100
TZNAME:BST
DTSTART:20240331T010000
END:DAYLIGHT
BEGIN:STANDARD
TZOFFSETFROM:+0100
TZOFFSETTO:+0000
TZNAME:GMT
DTSTART:20241027T010000
END:STANDARD
BEGIN:DAYLIGHT
TZOFFSETFROM:+0000
TZOFFSETTO:+0100
TZNAME:BST
DTSTART:20250330T010000
END:DAYLIGHT
BEGIN:STANDARD
TZOFFSETFROM:+0100
TZOFFSETTO:+0000
TZNAME:GMT
DTSTART:20251026T010000
END:STANDARD
BEGIN:DAYLIGHT
TZOFFSETFROM:+0000
TZOFFSETTO:+0100
TZNAME:BST
DTSTART:20260329T010000
END:DAYLIGHT
BEGIN:STANDARD
TZOFFSETFROM:+0100
TZOFFSETTO:+0000
TZNAME:GMT
DTSTART:20261025T010000
END:STANDARD
END:VTIMEZONE
BEGIN:VEVENT
DTSTART;TZID=Europe/London:20250105T090000
DTEND;TZID=Europe/London:20250105T093000
DTSTAMP:20260419T135551
CREATED:20241020T171208Z
LAST-MODIFIED:20241115T154616Z
UID:4331-1736067600-1736069400@stmarysmicheldever.co.uk
SUMMARY:BCP Holy Communion (said)
DESCRIPTION:Rev’d Rob Rees and Claire Bentham
URL:https://stmarysmicheldever.co.uk/event/bcp-holy-communion-said-11/
LOCATION:St Mary the Virgin\, Church Street\, Micheldever\, Hants\, SO21 3DG\, United Kingdom
CATEGORIES:Church Service
ATTACH;FMTTYPE=image/jpeg:https://stmarysmicheldever.co.uk/wp-content/uploads/2024/10/St-Matthews-Westminster-TMP-66-scaled.jpg
END:VEVENT
BEGIN:VEVENT
DTSTART;TZID=Europe/London:20250105T100000
DTEND;TZID=Europe/London:20250105T110000
DTSTAMP:20260419T135551
CREATED:20241020T171409Z
LAST-MODIFIED:20250103T092205Z
UID:4333-1736071200-1736074800@stmarysmicheldever.co.uk
SUMMARY:Café Church
DESCRIPTION:Claire Bentham
URL:https://stmarysmicheldever.co.uk/event/cafe-church-16/
LOCATION:St Mary the Virgin\, Church Street\, Micheldever\, Hants\, SO21 3DG\, United Kingdom
CATEGORIES:Church Service
ATTACH;FMTTYPE=image/jpeg:https://stmarysmicheldever.co.uk/wp-content/uploads/2024/10/messy-church-january.jpg
END:VEVENT
BEGIN:VEVENT
DTSTART;TZID=Europe/London:20250112T180000
DTEND;TZID=Europe/London:20250112T190000
DTSTAMP:20260419T135551
CREATED:20241115T135919Z
LAST-MODIFIED:20241115T135919Z
UID:4359-1736704800-1736708400@stmarysmicheldever.co.uk
SUMMARY:Evensong
DESCRIPTION:  \n\n\n\nLed by Rev’d Rob Rees & Rev’d Jo Criscenti\n\n\n\n 
URL:https://stmarysmicheldever.co.uk/event/evensong-12/
LOCATION:St Mary the Virgin\, Church Street\, Micheldever\, Hants\, SO21 3DG\, United Kingdom
CATEGORIES:Church Service
ATTACH;FMTTYPE=image/jpeg:https://stmarysmicheldever.co.uk/wp-content/uploads/2022/11/candles-ged1416f4c_1280.jpg
END:VEVENT
BEGIN:VEVENT
DTSTART;TZID=Europe/London:20250119T100000
DTEND;TZID=Europe/London:20250119T110000
DTSTAMP:20260419T135551
CREATED:20241115T135707Z
LAST-MODIFIED:20250110T171330Z
UID:4357-1737280800-1737284400@stmarysmicheldever.co.uk
SUMMARY:Holy Communion
DESCRIPTION:Rev’d Rob Rees
URL:https://stmarysmicheldever.co.uk/event/bcp-holy-communion-said-12/
LOCATION:St Mary the Virgin\, Church Street\, Micheldever\, Hants\, SO21 3DG\, United Kingdom
CATEGORIES:Christmas,Church Service
ATTACH;FMTTYPE=image/jpeg:https://stmarysmicheldever.co.uk/wp-content/uploads/2024/11/JAK_9080-scaled.jpg
END:VEVENT
END:VCALENDAR