BEGIN:VCALENDAR
VERSION:2.0
PRODID:-//St Mary&#039;s Church - ECPv6.15.20//NONSGML v1.0//EN
CALSCALE:GREGORIAN
METHOD:PUBLISH
X-WR-CALNAME:St Mary&#039;s Church
X-ORIGINAL-URL:https://stmarysmicheldever.co.uk
X-WR-CALDESC:Events for St Mary&#039;s Church
REFRESH-INTERVAL;VALUE=DURATION:PT1H
X-Robots-Tag:noindex
X-PUBLISHED-TTL:PT1H
BEGIN:VTIMEZONE
TZID:Europe/London
BEGIN:DAYLIGHT
TZOFFSETFROM:+0000
TZOFFSETTO:+0100
TZNAME:BST
DTSTART:20230326T010000
END:DAYLIGHT
BEGIN:STANDARD
TZOFFSETFROM:+0100
TZOFFSETTO:+0000
TZNAME:GMT
DTSTART:20231029T010000
END:STANDARD
BEGIN:DAYLIGHT
TZOFFSETFROM:+0000
TZOFFSETTO:+0100
TZNAME:BST
DTSTART:20240331T010000
END:DAYLIGHT
BEGIN:STANDARD
TZOFFSETFROM:+0100
TZOFFSETTO:+0000
TZNAME:GMT
DTSTART:20241027T010000
END:STANDARD
BEGIN:DAYLIGHT
TZOFFSETFROM:+0000
TZOFFSETTO:+0100
TZNAME:BST
DTSTART:20250330T010000
END:DAYLIGHT
BEGIN:STANDARD
TZOFFSETFROM:+0100
TZOFFSETTO:+0000
TZNAME:GMT
DTSTART:20251026T010000
END:STANDARD
END:VTIMEZONE
BEGIN:VEVENT
DTSTART;TZID=Europe/London:20241201T090000
DTEND;TZID=Europe/London:20241201T093000
DTSTAMP:20260421T114108
CREATED:20241018T154228Z
LAST-MODIFIED:20241018T154228Z
UID:4311-1733043600-1733045400@stmarysmicheldever.co.uk
SUMMARY:BCP Holy Communion (said)
DESCRIPTION:BCP Holy Communion (said)
URL:https://stmarysmicheldever.co.uk/event/bcp-holy-communion-said-10/
LOCATION:St Mary the Virgin\, Church Street\, Micheldever\, Hants\, SO21 3DG\, United Kingdom
CATEGORIES:Christmas,Church Service
ATTACH;FMTTYPE=image/jpeg:https://stmarysmicheldever.co.uk/wp-content/uploads/2023/10/worship-4408776_1280.jpg
END:VEVENT
BEGIN:VEVENT
DTSTART;TZID=Europe/London:20241201T100000
DTEND;TZID=Europe/London:20241201T110000
DTSTAMP:20260421T114108
CREATED:20241018T154848Z
LAST-MODIFIED:20241125T212700Z
UID:4316-1733047200-1733050800@stmarysmicheldever.co.uk
SUMMARY:Christmas Café Church
DESCRIPTION:Claire Bentham
URL:https://stmarysmicheldever.co.uk/event/cafe-church-15/
LOCATION:St Mary the Virgin\, Church Street\, Micheldever\, Hants\, SO21 3DG\, United Kingdom
CATEGORIES:Christmas,Church Service,Meal
ATTACH;FMTTYPE=image/jpeg:https://stmarysmicheldever.co.uk/wp-content/uploads/2024/10/cafe-church.jpg
END:VEVENT
BEGIN:VEVENT
DTSTART;TZID=Europe/London:20241215T100000
DTEND;TZID=Europe/London:20241215T110000
DTSTAMP:20260421T114108
CREATED:20241018T155108Z
LAST-MODIFIED:20241205T173231Z
UID:4318-1734256800-1734260400@stmarysmicheldever.co.uk
SUMMARY:Christingle with Toy Service
DESCRIPTION:Rev’d Rob Rees & Claire Bentham
URL:https://stmarysmicheldever.co.uk/event/christingle-with-toy-service/
LOCATION:St Mary the Virgin\, Church Street\, Micheldever\, Hants\, SO21 3DG\, United Kingdom
CATEGORIES:Christmas,Church Service
ATTACH;FMTTYPE=image/jpeg:https://stmarysmicheldever.co.uk/wp-content/uploads/2024/10/Christingle-2024.jpg
END:VEVENT
BEGIN:VEVENT
DTSTART;TZID=Europe/London:20241215T180000
DTEND;TZID=Europe/London:20241215T190000
DTSTAMP:20260421T114108
CREATED:20241020T170349Z
LAST-MODIFIED:20241109T180920Z
UID:4321-1734285600-1734289200@stmarysmicheldever.co.uk
SUMMARY:The Dever Singers 40th Anniversary Christmas Concert
DESCRIPTION:
URL:https://stmarysmicheldever.co.uk/event/the-dever-singers-40th-anniversary-christmas-concert/
LOCATION:St Mary the Virgin\, Church Street\, Micheldever\, Hants\, SO21 3DG\, United Kingdom
CATEGORIES:Christmas,Church Service,Concert
ATTACH;FMTTYPE=image/jpeg:https://stmarysmicheldever.co.uk/wp-content/uploads/2024/10/Dever-Singers-Poster-Xmas-service.jpg
END:VEVENT
BEGIN:VEVENT
DTSTART;TZID=Europe/London:20241220T093000
DTEND;TZID=Europe/London:20241220T103000
DTSTAMP:20260421T114108
CREATED:20241014T104246Z
LAST-MODIFIED:20241018T154624Z
UID:4306-1734687000-1734690600@stmarysmicheldever.co.uk
SUMMARY:St Mary's Primary School Christmas Carol Service
DESCRIPTION:St Mary’s Primary School \n 
URL:https://stmarysmicheldever.co.uk/event/christmas-carol-service/
LOCATION:St Mary the Virgin\, Church Street\, Micheldever\, Hants\, SO21 3DG\, United Kingdom
CATEGORIES:Christmas,Church Service
ATTACH;FMTTYPE=image/jpeg:https://stmarysmicheldever.co.uk/wp-content/uploads/2024/10/Baby-Blue-Illustrative-Watercolor-Christmas-Nativity-Scene-Instagram-Post.jpg
END:VEVENT
BEGIN:VEVENT
DTSTART;TZID=Europe/London:20241220T180000
DTEND;TZID=Europe/London:20241220T200000
DTSTAMP:20260421T114108
CREATED:20241202T083406Z
LAST-MODIFIED:20241202T083749Z
UID:4388-1734717600-1734724800@stmarysmicheldever.co.uk
SUMMARY:Carol singing in the Pub
DESCRIPTION:Please come and join the Dever Singers and the new church choir singing carols at the Half Moon and Spread Eagle\, Micheldever
URL:https://stmarysmicheldever.co.uk/event/carol-singing-in-the-pub/
LOCATION:Half Moon and Spread Eagle Pub\, Winchester Hill\, Micheldever\, Hampshire\, SO21 3DG\, United Kingdom
CATEGORIES:Christmas,Entertainment,Fundraising
ATTACH;FMTTYPE=image/jpeg:https://stmarysmicheldever.co.uk/wp-content/uploads/2024/12/Carols-in-the-pub.jpg
END:VEVENT
BEGIN:VEVENT
DTSTART;TZID=Europe/London:20241222T183000
DTEND;TZID=Europe/London:20241222T193000
DTSTAMP:20260421T114108
CREATED:20241018T154510Z
LAST-MODIFIED:20241213T124644Z
UID:4313-1734892200-1734895800@stmarysmicheldever.co.uk
SUMMARY:Christmas Lessons and Carols Service
DESCRIPTION:Christmas Lessons and Carols Service
URL:https://stmarysmicheldever.co.uk/event/christmas-carol-service-2/
LOCATION:St Mary the Virgin\, Church Street\, Micheldever\, Hants\, SO21 3DG\, United Kingdom
CATEGORIES:Christmas,Church Service
ATTACH;FMTTYPE=image/jpeg:https://stmarysmicheldever.co.uk/wp-content/uploads/2024/10/Christmas-Carol-Service-Flyer-02.jpg
END:VEVENT
BEGIN:VEVENT
DTSTART;TZID=Europe/London:20241224T150000
DTEND;TZID=Europe/London:20241224T160000
DTSTAMP:20260421T114108
CREATED:20241020T170550Z
LAST-MODIFIED:20241224T133432Z
UID:4323-1735052400-1735056000@stmarysmicheldever.co.uk
SUMMARY:Crib Service
DESCRIPTION:Rev’d Rob Rees & Claire Bentham
URL:https://stmarysmicheldever.co.uk/event/crib-service-3/
LOCATION:St Mary the Virgin\, Church Street\, Micheldever\, Hants\, SO21 3DG\, United Kingdom
CATEGORIES:Christmas,Church Service
ATTACH;FMTTYPE=image/jpeg:https://stmarysmicheldever.co.uk/wp-content/uploads/2024/10/crib-service-03-1.jpg
END:VEVENT
BEGIN:VEVENT
DTSTART;TZID=Europe/London:20241225T093000
DTEND;TZID=Europe/London:20241225T103000
DTSTAMP:20260421T114108
CREATED:20241020T170756Z
LAST-MODIFIED:20241115T155633Z
UID:4325-1735119000-1735122600@stmarysmicheldever.co.uk
SUMMARY:Festal Morning Prayer
DESCRIPTION:Claire Bentham
URL:https://stmarysmicheldever.co.uk/event/festal-morning-prayer/
LOCATION:St Mary the Virgin\, Church Street\, Micheldever\, Hants\, SO21 3DG\, United Kingdom
CATEGORIES:Christmas,Church Service
ATTACH;FMTTYPE=image/jpeg:https://stmarysmicheldever.co.uk/wp-content/uploads/2024/10/Festal-Morning-Prayer.jpg
END:VEVENT
BEGIN:VEVENT
DTSTART;TZID=Europe/London:20241229T100000
DTEND;TZID=Europe/London:20241229T110000
DTSTAMP:20260421T114108
CREATED:20241020T170958Z
LAST-MODIFIED:20241205T174418Z
UID:4327-1735466400-1735470000@stmarysmicheldever.co.uk
SUMMARY:Benefice Service of Holy Communion
DESCRIPTION:Rev’d Dr Robert Rees and Ministry Team
URL:https://stmarysmicheldever.co.uk/event/benefice-service-of-holy-communion-at-st-marys-micheldever/
LOCATION:St Mary the Virgin\, Church Street\, Micheldever\, Hants\, SO21 3DG\, United Kingdom
CATEGORIES:Benefice,Church Service
ATTACH;FMTTYPE=image/png:https://stmarysmicheldever.co.uk/wp-content/uploads/2024/08/bell-jar-2545137_1280.png
END:VEVENT
END:VCALENDAR