BEGIN:VCALENDAR
VERSION:2.0
PRODID:-//St Mary&#039;s Church - ECPv6.15.20//NONSGML v1.0//EN
CALSCALE:GREGORIAN
METHOD:PUBLISH
X-WR-CALNAME:St Mary&#039;s Church
X-ORIGINAL-URL:https://stmarysmicheldever.co.uk
X-WR-CALDESC:Events for St Mary&#039;s Church
REFRESH-INTERVAL;VALUE=DURATION:PT1H
X-Robots-Tag:noindex
X-PUBLISHED-TTL:PT1H
BEGIN:VTIMEZONE
TZID:Europe/London
BEGIN:DAYLIGHT
TZOFFSETFROM:+0000
TZOFFSETTO:+0100
TZNAME:BST
DTSTART:20230326T010000
END:DAYLIGHT
BEGIN:STANDARD
TZOFFSETFROM:+0100
TZOFFSETTO:+0000
TZNAME:GMT
DTSTART:20231029T010000
END:STANDARD
BEGIN:DAYLIGHT
TZOFFSETFROM:+0000
TZOFFSETTO:+0100
TZNAME:BST
DTSTART:20240331T010000
END:DAYLIGHT
BEGIN:STANDARD
TZOFFSETFROM:+0100
TZOFFSETTO:+0000
TZNAME:GMT
DTSTART:20241027T010000
END:STANDARD
BEGIN:DAYLIGHT
TZOFFSETFROM:+0000
TZOFFSETTO:+0100
TZNAME:BST
DTSTART:20250330T010000
END:DAYLIGHT
BEGIN:STANDARD
TZOFFSETFROM:+0100
TZOFFSETTO:+0000
TZNAME:GMT
DTSTART:20251026T010000
END:STANDARD
END:VTIMEZONE
BEGIN:VEVENT
DTSTART;TZID=Europe/London:20241110T105000
DTEND;TZID=Europe/London:20241110T120000
DTSTAMP:20260421T131507
CREATED:20241014T083859Z
LAST-MODIFIED:20241014T083919Z
UID:4292-1731235800-1731240000@stmarysmicheldever.co.uk
SUMMARY:Remembrance Day Service
DESCRIPTION:Organised by Charles Holden in aid of the British Legion. \n 
URL:https://stmarysmicheldever.co.uk/event/remembrance-day-service/
LOCATION:St Mary the Virgin\, Church Street\, Micheldever\, Hants\, SO21 3DG\, United Kingdom
ATTACH;FMTTYPE=image/jpeg:https://stmarysmicheldever.co.uk/wp-content/uploads/2024/10/Red-and-Black-Minimalist-Remembrance-Day-Instagram-Post.jpg
END:VEVENT
BEGIN:VEVENT
DTSTART;TZID=Europe/London:20241111T104500
DTEND;TZID=Europe/London:20241111T113000
DTSTAMP:20260421T131507
CREATED:20241014T103900Z
LAST-MODIFIED:20241028T172203Z
UID:4304-1731321900-1731324600@stmarysmicheldever.co.uk
SUMMARY:Remembrance Day Service
DESCRIPTION:Organised by Charles Holden. \n10.45am Assemble at the War Memorial. \n10.50am Service of commemoration \n11.02am Chinook flypast \n11.10am Address in the Northbrook Hall by GP Captain Roberts OBE DFC Commander Chinook Force \n11.30am Tour of Chinook on Lord Rank Playing Field (provisional) \n 
URL:https://stmarysmicheldever.co.uk/event/st-marys-primary-remembrance-day-service/
LOCATION:Northbrook Hall\, 104 Duke St\, Micheldever\, SO21 3DF
CATEGORIES:Church Service,School
ATTACH;FMTTYPE=image/jpeg:https://stmarysmicheldever.co.uk/wp-content/uploads/2024/10/Remembrance-Day-ceremony-Micheldever.jpg
ORGANIZER;CN="Charles Holden":MAILTO:charlesholden1@hotmail.com
END:VEVENT
BEGIN:VEVENT
DTSTART;TZID=Europe/London:20241117T100000
DTEND;TZID=Europe/London:20241117T110000
DTSTAMP:20260421T131507
CREATED:20241014T084200Z
LAST-MODIFIED:20241113T140124Z
UID:4296-1731837600-1731841200@stmarysmicheldever.co.uk
SUMMARY:Said Morning Prayer
DESCRIPTION:Claire Bentham
URL:https://stmarysmicheldever.co.uk/event/said-morning-prayer/
LOCATION:St Mary the Virgin\, Church Street\, Micheldever\, Hants\, SO21 3DG\, United Kingdom
CATEGORIES:Church Service
ATTACH;FMTTYPE=image/jpeg:https://stmarysmicheldever.co.uk/wp-content/uploads/2024/10/17th-Nov-2024.jpg
END:VEVENT
BEGIN:VEVENT
DTSTART;TZID=Europe/London:20241129T191500
DTEND;TZID=Europe/London:20241129T213000
DTSTAMP:20260421T131507
CREATED:20241024T202811Z
LAST-MODIFIED:20241024T202811Z
UID:4336-1732907700-1732915800@stmarysmicheldever.co.uk
SUMMARY:Exploring Wildlife in Remote Regions of Spain
DESCRIPTION:A talk by nature specialist Andy Tucker offering a breath taking photography tour of remote Spanish mountains and wilderness habitats.
URL:https://stmarysmicheldever.co.uk/event/exploring-wildlife-in-remote-regions-of-spain/
LOCATION:Northbrook Hall\, 104 Duke St\, Micheldever\, SO21 3DF
CATEGORIES:Fundraising
ATTACH;FMTTYPE=image/jpeg:https://stmarysmicheldever.co.uk/wp-content/uploads/2024/10/29-Nov-Andy-Tucker-talk.jpg
END:VEVENT
BEGIN:VEVENT
DTSTART;TZID=Europe/London:20241130T093000
DTEND;TZID=Europe/London:20241130T120000
DTSTAMP:20260421T131507
CREATED:20241014T084513Z
LAST-MODIFIED:20241014T084513Z
UID:4299-1732959000-1732968000@stmarysmicheldever.co.uk
SUMMARY:Church Building Pre-Christmas Clean Up
DESCRIPTION:Church Building Pre-Christmas Clean Up
URL:https://stmarysmicheldever.co.uk/event/church-building-pre-christmas-clean-up/
LOCATION:St Mary the Virgin\, Church Street\, Micheldever\, Hants\, SO21 3DG\, United Kingdom
ATTACH;FMTTYPE=image/jpeg:https://stmarysmicheldever.co.uk/wp-content/uploads/2024/10/Cleaning-Day-30-Nov-24.jpg
END:VEVENT
END:VCALENDAR