BEGIN:VCALENDAR
VERSION:2.0
PRODID:-//St Mary&#039;s Church - ECPv6.15.20//NONSGML v1.0//EN
CALSCALE:GREGORIAN
METHOD:PUBLISH
X-WR-CALNAME:St Mary&#039;s Church
X-ORIGINAL-URL:https://stmarysmicheldever.co.uk
X-WR-CALDESC:Events for St Mary&#039;s Church
REFRESH-INTERVAL;VALUE=DURATION:PT1H
X-Robots-Tag:noindex
X-PUBLISHED-TTL:PT1H
BEGIN:VTIMEZONE
TZID:Europe/London
BEGIN:DAYLIGHT
TZOFFSETFROM:+0000
TZOFFSETTO:+0100
TZNAME:BST
DTSTART:20230326T010000
END:DAYLIGHT
BEGIN:STANDARD
TZOFFSETFROM:+0100
TZOFFSETTO:+0000
TZNAME:GMT
DTSTART:20231029T010000
END:STANDARD
BEGIN:DAYLIGHT
TZOFFSETFROM:+0000
TZOFFSETTO:+0100
TZNAME:BST
DTSTART:20240331T010000
END:DAYLIGHT
BEGIN:STANDARD
TZOFFSETFROM:+0100
TZOFFSETTO:+0000
TZNAME:GMT
DTSTART:20241027T010000
END:STANDARD
BEGIN:DAYLIGHT
TZOFFSETFROM:+0000
TZOFFSETTO:+0100
TZNAME:BST
DTSTART:20250330T010000
END:DAYLIGHT
BEGIN:STANDARD
TZOFFSETFROM:+0100
TZOFFSETTO:+0000
TZNAME:GMT
DTSTART:20251026T010000
END:STANDARD
END:VTIMEZONE
BEGIN:VEVENT
DTSTART;TZID=Europe/London:20240707T090000
DTEND;TZID=Europe/London:20240707T100000
DTSTAMP:20260421T194221
CREATED:20240228T183705Z
LAST-MODIFIED:20240503T160200Z
UID:4120-1720342800-1720346400@stmarysmicheldever.co.uk
SUMMARY:BCP Holy Communion (Said)
DESCRIPTION:Rev’d Rob Rees
URL:https://stmarysmicheldever.co.uk/event/holy-communion-21/
LOCATION:St Mary the Virgin\, Church Street\, Micheldever\, Hants\, SO21 3DG\, United Kingdom
CATEGORIES:Church Service
ATTACH;FMTTYPE=image/jpeg:https://stmarysmicheldever.co.uk/wp-content/uploads/2022/11/communion-g502fec265_1920.jpg
END:VEVENT
BEGIN:VEVENT
DTSTART;TZID=Europe/London:20240707T100000
DTEND;TZID=Europe/London:20240707T110000
DTSTAMP:20260421T194221
CREATED:20240228T185422Z
LAST-MODIFIED:20240503T160416Z
UID:4130-1720346400-1720350000@stmarysmicheldever.co.uk
SUMMARY:Café Church
DESCRIPTION:A short\, fun and relaxed service for children and adults. \nled by Claire Bentham
URL:https://stmarysmicheldever.co.uk/event/cafe-church-13/
LOCATION:St Mary the Virgin\, Church Street\, Micheldever\, Hants\, SO21 3DG\, United Kingdom
CATEGORIES:Church Service,Entertainment,Messy,School
ATTACH;FMTTYPE=image/png:https://stmarysmicheldever.co.uk/wp-content/uploads/2023/10/girls-4509872_1280.png
END:VEVENT
BEGIN:VEVENT
DTSTART;TZID=Europe/London:20240714T180000
DTEND;TZID=Europe/London:20240714T190000
DTSTAMP:20260421T194221
CREATED:20240503T160654Z
LAST-MODIFIED:20240506T130857Z
UID:4145-1720980000-1720983600@stmarysmicheldever.co.uk
SUMMARY:Evening Prayer
DESCRIPTION:Evensong \n\n\n\nLed by Rev’d Rob Rees\n\n\n\n 
URL:https://stmarysmicheldever.co.uk/event/evensong-13/
LOCATION:St Mary the Virgin\, Church Street\, Micheldever\, Hants\, SO21 3DG\, United Kingdom
CATEGORIES:Church Service
ATTACH;FMTTYPE=image/jpeg:https://stmarysmicheldever.co.uk/wp-content/uploads/2022/11/candles-ged1416f4c_1280.jpg
END:VEVENT
BEGIN:VEVENT
DTSTART;TZID=Europe/London:20240720T130000
DTEND;TZID=Europe/London:20240720T160000
DTSTAMP:20260421T194221
CREATED:20240525T072616Z
LAST-MODIFIED:20240525T072616Z
UID:4163-1721480400-1721491200@stmarysmicheldever.co.uk
SUMMARY:St Mary's Summer Fete
DESCRIPTION:Come and join the village of Micheldever to celebrate their annual fundraising fete on the Lord Rank Playing Field on Duke Street. \nThere will be a dog show and fun for all the family. \nBook stall\, Grand draw\, children’s games etc. \n£2 entry fee. \nFree parking \n 
URL:https://stmarysmicheldever.co.uk/event/st-marys-summer-fete/
LOCATION:Lord Rank Playing Field\, Micheldever\, 29-21 Duke St\, Winchester\, SO21 3DJ\, United Kingdom
CATEGORIES:Entertainment,Fundraising
ATTACH;FMTTYPE=image/jpeg:https://stmarysmicheldever.co.uk/wp-content/uploads/2024/05/Fete-2024.jpg
END:VEVENT
BEGIN:VEVENT
DTSTART;TZID=Europe/London:20240720T140000
DTEND;TZID=Europe/London:20240720T160000
DTSTAMP:20260421T194221
CREATED:20240525T073036Z
LAST-MODIFIED:20240525T073036Z
UID:4166-1721484000-1721491200@stmarysmicheldever.co.uk
SUMMARY:Dog Show at the Micheldever Summer Fete
DESCRIPTION:Please bring your 4-legged friends to the Micheldever fete. \nClasses start at 2pm. \n  \n 
URL:https://stmarysmicheldever.co.uk/event/dog-show-at-the-micheldever-summer-fete/
LOCATION:Lord Rank Playing Field\, Micheldever\, 29-21 Duke St\, Winchester\, SO21 3DJ\, United Kingdom
ATTACH;FMTTYPE=image/jpeg:https://stmarysmicheldever.co.uk/wp-content/uploads/2024/05/Dog-show-Fete-2024.jpg
END:VEVENT
END:VCALENDAR