BEGIN:VCALENDAR
VERSION:2.0
PRODID:-//St Mary&#039;s Church - ECPv6.15.20//NONSGML v1.0//EN
CALSCALE:GREGORIAN
METHOD:PUBLISH
X-ORIGINAL-URL:https://stmarysmicheldever.co.uk
X-WR-CALDESC:Events for St Mary&#039;s Church
REFRESH-INTERVAL;VALUE=DURATION:PT1H
X-Robots-Tag:noindex
X-PUBLISHED-TTL:PT1H
BEGIN:VTIMEZONE
TZID:Europe/London
BEGIN:DAYLIGHT
TZOFFSETFROM:+0000
TZOFFSETTO:+0100
TZNAME:BST
DTSTART:20230326T010000
END:DAYLIGHT
BEGIN:STANDARD
TZOFFSETFROM:+0100
TZOFFSETTO:+0000
TZNAME:GMT
DTSTART:20231029T010000
END:STANDARD
BEGIN:DAYLIGHT
TZOFFSETFROM:+0000
TZOFFSETTO:+0100
TZNAME:BST
DTSTART:20240331T010000
END:DAYLIGHT
BEGIN:STANDARD
TZOFFSETFROM:+0100
TZOFFSETTO:+0000
TZNAME:GMT
DTSTART:20241027T010000
END:STANDARD
BEGIN:DAYLIGHT
TZOFFSETFROM:+0000
TZOFFSETTO:+0100
TZNAME:BST
DTSTART:20250330T010000
END:DAYLIGHT
BEGIN:STANDARD
TZOFFSETFROM:+0100
TZOFFSETTO:+0000
TZNAME:GMT
DTSTART:20251026T010000
END:STANDARD
END:VTIMEZONE
BEGIN:VEVENT
DTSTART;TZID=Europe/London:20240602T100000
DTEND;TZID=Europe/London:20240602T110000
DTSTAMP:20260421T212216
CREATED:20240503T160531Z
LAST-MODIFIED:20240503T160531Z
UID:4141-1717322400-1717326000@stmarysmicheldever.co.uk
SUMMARY:Café Church
DESCRIPTION:A short\, fun and lively service for children and adults. \nled by Rev.d Rob Rees and Claire Bentham
URL:https://stmarysmicheldever.co.uk/event/cafe-church-14/
LOCATION:St Mary the Virgin\, Church Street\, Micheldever\, Hants\, SO21 3DG\, United Kingdom
CATEGORIES:Church Service,Entertainment,Messy,School
ATTACH;FMTTYPE=image/png:https://stmarysmicheldever.co.uk/wp-content/uploads/2023/10/girls-4509872_1280.png
END:VEVENT
BEGIN:VEVENT
DTSTART;TZID=Europe/London:20240608T183000
DTEND;TZID=Europe/London:20240608T183000
DTSTAMP:20260421T212216
CREATED:20240506T132437Z
LAST-MODIFIED:20240506T133031Z
UID:4155-1717871400-1717871400@stmarysmicheldever.co.uk
SUMMARY:D-Day Commemoration Concert
DESCRIPTION:A short evening of reminiscences commemorating the D-Day Landings and the end of the second world war. \nMusic and refreshments. \nRetiring collection in aid of the Royal British Legion.
URL:https://stmarysmicheldever.co.uk/event/d-day-commemorations-concert/
LOCATION:St Mary the Virgin\, Church Street\, Micheldever\, Hants\, SO21 3DG\, United Kingdom
CATEGORIES:Fundraising,Meal
ATTACH;FMTTYPE=image/jpeg:https://stmarysmicheldever.co.uk/wp-content/uploads/2024/05/DDay-celebrations-Micheldever-8th-June-2024-1.jpg
END:VEVENT
BEGIN:VEVENT
DTSTART;TZID=Europe/London:20240609T180000
DTEND;TZID=Europe/London:20240609T190000
DTSTAMP:20260421T212216
CREATED:20240228T182803Z
LAST-MODIFIED:20240506T131218Z
UID:4115-1717956000-1717959600@stmarysmicheldever.co.uk
SUMMARY:Evening Prayer
DESCRIPTION:Evensong \n\n\n\nLed by Rev’d Rob Rees\n\n\n\n 
URL:https://stmarysmicheldever.co.uk/event/eveningprayer-2/
LOCATION:St Mary the Virgin\, Church Street\, Micheldever\, Hants\, SO21 3DG\, United Kingdom
CATEGORIES:Church Service
ATTACH;FMTTYPE=image/jpeg:https://stmarysmicheldever.co.uk/wp-content/uploads/2022/11/candles-ged1416f4c_1280.jpg
END:VEVENT
BEGIN:VEVENT
DTSTART;TZID=Europe/London:20240609T180000
DTEND;TZID=Europe/London:20240609T190000
DTSTAMP:20260421T212216
CREATED:20240704T163752Z
LAST-MODIFIED:20240704T163752Z
UID:4197-1717956000-1717959600@stmarysmicheldever.co.uk
SUMMARY:Evensong
DESCRIPTION:Evensong \n\n\n\nLed by Rev’d Rob Rees & Rev’d Jo Criscenti\n\n\n\n 
URL:https://stmarysmicheldever.co.uk/event/evensong-10/
LOCATION:St Mary the Virgin\, Church Street\, Micheldever\, Hants\, SO21 3DG\, United Kingdom
CATEGORIES:Church Service
ATTACH;FMTTYPE=image/jpeg:https://stmarysmicheldever.co.uk/wp-content/uploads/2022/11/candles-ged1416f4c_1280.jpg
END:VEVENT
BEGIN:VEVENT
DTSTART;TZID=Europe/London:20240616T100000
DTEND;TZID=Europe/London:20240616T110000
DTSTAMP:20260421T212216
CREATED:20240228T185549Z
LAST-MODIFIED:20240228T185549Z
UID:4132-1718532000-1718535600@stmarysmicheldever.co.uk
SUMMARY:Holy Communion
DESCRIPTION:Rev’d Rob Rees
URL:https://stmarysmicheldever.co.uk/event/holy-communion-22/
LOCATION:St Mary the Virgin\, Church Street\, Micheldever\, Hants\, SO21 3DG\, United Kingdom
CATEGORIES:Church Service
ATTACH;FMTTYPE=image/jpeg:https://stmarysmicheldever.co.uk/wp-content/uploads/2022/11/communion-g502fec265_1920.jpg
END:VEVENT
BEGIN:VEVENT
DTSTART;TZID=Europe/London:20240616T180000
DTEND;TZID=Europe/London:20240616T200000
DTSTAMP:20260421T212216
CREATED:20240525T074130Z
LAST-MODIFIED:20240525T074130Z
UID:4169-1718560800-1718568000@stmarysmicheldever.co.uk
SUMMARY:Dever Singers Summer Concert
DESCRIPTION:
URL:https://stmarysmicheldever.co.uk/event/dever-singers-summer-concert/
LOCATION:St Mary the Virgin\, Church Street\, Micheldever\, Hants\, SO21 3DG\, United Kingdom
ATTACH;FMTTYPE=image/jpeg:https://stmarysmicheldever.co.uk/wp-content/uploads/2024/05/Dever-Singers-Concert-16th-June.jpg
END:VEVENT
BEGIN:VEVENT
DTSTART;TZID=Europe/London:20240630T100000
DTEND;TZID=Europe/London:20240630T110000
DTSTAMP:20260421T212216
CREATED:20240228T190217Z
LAST-MODIFIED:20240228T190217Z
UID:4134-1719741600-1719745200@stmarysmicheldever.co.uk
SUMMARY:Benefice Service with Holy Communion
DESCRIPTION:Rev’d Rob Rees\, Invited Preacher and Ministry Team
URL:https://stmarysmicheldever.co.uk/event/benefice-service-with-holy-communion/
LOCATION:St Mary the Virgin\, Church Street\, Micheldever\, Hants\, SO21 3DG\, United Kingdom
CATEGORIES:Church Service
ATTACH;FMTTYPE=image/jpeg:https://stmarysmicheldever.co.uk/wp-content/uploads/2023/10/supper-715921_1280.jpg
END:VEVENT
END:VCALENDAR