BEGIN:VCALENDAR
VERSION:2.0
PRODID:-//St Mary&#039;s Church - ECPv6.15.20//NONSGML v1.0//EN
CALSCALE:GREGORIAN
METHOD:PUBLISH
X-ORIGINAL-URL:https://stmarysmicheldever.co.uk
X-WR-CALDESC:Events for St Mary&#039;s Church
REFRESH-INTERVAL;VALUE=DURATION:PT1H
X-Robots-Tag:noindex
X-PUBLISHED-TTL:PT1H
BEGIN:VTIMEZONE
TZID:Europe/London
BEGIN:DAYLIGHT
TZOFFSETFROM:+0000
TZOFFSETTO:+0100
TZNAME:BST
DTSTART:20230326T010000
END:DAYLIGHT
BEGIN:STANDARD
TZOFFSETFROM:+0100
TZOFFSETTO:+0000
TZNAME:GMT
DTSTART:20231029T010000
END:STANDARD
BEGIN:DAYLIGHT
TZOFFSETFROM:+0000
TZOFFSETTO:+0100
TZNAME:BST
DTSTART:20240331T010000
END:DAYLIGHT
BEGIN:STANDARD
TZOFFSETFROM:+0100
TZOFFSETTO:+0000
TZNAME:GMT
DTSTART:20241027T010000
END:STANDARD
BEGIN:DAYLIGHT
TZOFFSETFROM:+0000
TZOFFSETTO:+0100
TZNAME:BST
DTSTART:20250330T010000
END:DAYLIGHT
BEGIN:STANDARD
TZOFFSETFROM:+0100
TZOFFSETTO:+0000
TZNAME:GMT
DTSTART:20251026T010000
END:STANDARD
END:VTIMEZONE
BEGIN:VEVENT
DTSTART;TZID=Europe/London:20240407T090000
DTEND;TZID=Europe/London:20240407T093000
DTSTAMP:20260422T003453
CREATED:20240228T182413Z
LAST-MODIFIED:20240228T182413Z
UID:4109-1712480400-1712482200@stmarysmicheldever.co.uk
SUMMARY:BCP Holy Communion Said
DESCRIPTION:BCP Holy Communion service (said) \nled by Rev’d Rob Rees
URL:https://stmarysmicheldever.co.uk/event/bcp-holy-communion-said-9/
LOCATION:St Mary the Virgin\, Church Street\, Micheldever\, Hants\, SO21 3DG\, United Kingdom
CATEGORIES:Church Service
ATTACH;FMTTYPE=image/jpeg:https://stmarysmicheldever.co.uk/wp-content/uploads/2022/11/supper-g9fb3fda82_1920.jpg
END:VEVENT
BEGIN:VEVENT
DTSTART;TZID=Europe/London:20240407T100000
DTEND;TZID=Europe/London:20240407T110000
DTSTAMP:20260422T003453
CREATED:20240228T184922Z
LAST-MODIFIED:20240228T185331Z
UID:4127-1712484000-1712487600@stmarysmicheldever.co.uk
SUMMARY:Café Church
DESCRIPTION:A short\, fun and lively service for children and adults. \nled by Rev.d Rob Rees and Claire Bentham
URL:https://stmarysmicheldever.co.uk/event/cafe-church-12/
LOCATION:St Mary the Virgin\, Church Street\, Micheldever\, Hants\, SO21 3DG\, United Kingdom
CATEGORIES:Church Service,Entertainment,Messy,School
ATTACH;FMTTYPE=image/png:https://stmarysmicheldever.co.uk/wp-content/uploads/2023/10/girls-4509872_1280.png
END:VEVENT
BEGIN:VEVENT
DTSTART;TZID=Europe/London:20240414T180000
DTEND;TZID=Europe/London:20240414T190000
DTSTAMP:20260422T003453
CREATED:20240228T182719Z
LAST-MODIFIED:20240506T131009Z
UID:4113-1713117600-1713121200@stmarysmicheldever.co.uk
SUMMARY:Evensong
DESCRIPTION:Evening Prayer \n\n\n\nLed by Rev’d Rob Rees\n\n\n\n 
URL:https://stmarysmicheldever.co.uk/event/evensong-11/
LOCATION:St Mary the Virgin\, Church Street\, Micheldever\, Hants\, SO21 3DG\, United Kingdom
CATEGORIES:Church Service
ATTACH;FMTTYPE=image/jpeg:https://stmarysmicheldever.co.uk/wp-content/uploads/2022/11/candles-ged1416f4c_1280.jpg
END:VEVENT
BEGIN:VEVENT
DTSTART;TZID=Europe/London:20240421T100000
DTEND;TZID=Europe/London:20240421T110000
DTSTAMP:20260422T003453
CREATED:20240228T183135Z
LAST-MODIFIED:20240228T183135Z
UID:4118-1713693600-1713697200@stmarysmicheldever.co.uk
SUMMARY:Holy Communion
DESCRIPTION:Rev’d Rob Rees and Claire Bentham (preaching)
URL:https://stmarysmicheldever.co.uk/event/holy-communion-20/
LOCATION:St Mary the Virgin\, Church Street\, Micheldever\, Hants\, SO21 3DG\, United Kingdom
CATEGORIES:Church Service
ATTACH;FMTTYPE=image/jpeg:https://stmarysmicheldever.co.uk/wp-content/uploads/2022/11/communion-g502fec265_1920.jpg
END:VEVENT
END:VCALENDAR