BEGIN:VCALENDAR
VERSION:2.0
PRODID:-//St Mary&#039;s Church - ECPv6.15.20//NONSGML v1.0//EN
CALSCALE:GREGORIAN
METHOD:PUBLISH
X-ORIGINAL-URL:https://stmarysmicheldever.co.uk
X-WR-CALDESC:Events for St Mary&#039;s Church
REFRESH-INTERVAL;VALUE=DURATION:PT1H
X-Robots-Tag:noindex
X-PUBLISHED-TTL:PT1H
BEGIN:VTIMEZONE
TZID:Europe/London
BEGIN:DAYLIGHT
TZOFFSETFROM:+0000
TZOFFSETTO:+0100
TZNAME:BST
DTSTART:20230326T010000
END:DAYLIGHT
BEGIN:STANDARD
TZOFFSETFROM:+0100
TZOFFSETTO:+0000
TZNAME:GMT
DTSTART:20231029T010000
END:STANDARD
BEGIN:DAYLIGHT
TZOFFSETFROM:+0000
TZOFFSETTO:+0100
TZNAME:BST
DTSTART:20240331T010000
END:DAYLIGHT
BEGIN:STANDARD
TZOFFSETFROM:+0100
TZOFFSETTO:+0000
TZNAME:GMT
DTSTART:20241027T010000
END:STANDARD
BEGIN:DAYLIGHT
TZOFFSETFROM:+0000
TZOFFSETTO:+0100
TZNAME:BST
DTSTART:20250330T010000
END:DAYLIGHT
BEGIN:STANDARD
TZOFFSETFROM:+0100
TZOFFSETTO:+0000
TZNAME:GMT
DTSTART:20251026T010000
END:STANDARD
END:VTIMEZONE
BEGIN:VEVENT
DTSTART;TZID=Europe/London:20240204T091500
DTEND;TZID=Europe/London:20240204T094500
DTSTAMP:20260422T035403
CREATED:20231118T082030Z
LAST-MODIFIED:20231118T082030Z
UID:3993-1707038100-1707039900@stmarysmicheldever.co.uk
SUMMARY:BCP Holy Communion
DESCRIPTION:BCP Holy Communion \nled by Rev’d Rob Rees
URL:https://stmarysmicheldever.co.uk/event/bcp-holy-communion/
LOCATION:St Mary the Virgin\, Church Street\, Micheldever\, Hants\, SO21 3DG\, United Kingdom
CATEGORIES:Church Service
ATTACH;FMTTYPE=image/jpeg:https://stmarysmicheldever.co.uk/wp-content/uploads/2022/11/supper-g9fb3fda82_1920.jpg
END:VEVENT
BEGIN:VEVENT
DTSTART;TZID=Europe/London:20240204T100000
DTEND;TZID=Europe/London:20240204T110000
DTSTAMP:20260422T035403
CREATED:20231118T082156Z
LAST-MODIFIED:20231118T082215Z
UID:3995-1707040800-1707044400@stmarysmicheldever.co.uk
SUMMARY:Café Church
DESCRIPTION:Café Church \nled by Rev’d Rob Rees
URL:https://stmarysmicheldever.co.uk/event/cafe-church-10/
LOCATION:St Mary the Virgin\, Church Street\, Micheldever\, Hants\, SO21 3DG\, United Kingdom
CATEGORIES:Church Service
ATTACH;FMTTYPE=image/png:https://stmarysmicheldever.co.uk/wp-content/uploads/2023/10/girls-4509872_1280.png
END:VEVENT
BEGIN:VEVENT
DTSTART;TZID=Europe/London:20240211T180000
DTEND;TZID=Europe/London:20240211T190000
DTSTAMP:20260422T035403
CREATED:20231118T082326Z
LAST-MODIFIED:20231118T082545Z
UID:3997-1707674400-1707678000@stmarysmicheldever.co.uk
SUMMARY:Evensong
DESCRIPTION:Evensong \n\n\n\nLed by Rev’d Rob Rees and Rev’d James Whymark\n\n\n\n 
URL:https://stmarysmicheldever.co.uk/event/evensong-9/
LOCATION:St Mary the Virgin\, Church Street\, Micheldever\, Hants\, SO21 3DG\, United Kingdom
CATEGORIES:Church Service
ATTACH;FMTTYPE=image/jpeg:https://stmarysmicheldever.co.uk/wp-content/uploads/2022/11/candles-ged1416f4c_1280.jpg
END:VEVENT
BEGIN:VEVENT
DTSTART;TZID=Europe/London:20240218T100000
DTEND;TZID=Europe/London:20240218T110000
DTSTAMP:20260422T035403
CREATED:20231118T082448Z
LAST-MODIFIED:20231229T164334Z
UID:3999-1708250400-1708254000@stmarysmicheldever.co.uk
SUMMARY:Holy Communion
DESCRIPTION:Rev’d Rob Rees
URL:https://stmarysmicheldever.co.uk/event/holy-communion-19/
LOCATION:St Mary the Virgin\, Church Street\, Micheldever\, Hants\, SO21 3DG\, United Kingdom
CATEGORIES:Church Service
ATTACH;FMTTYPE=image/jpeg:https://stmarysmicheldever.co.uk/wp-content/uploads/2022/11/communion-g502fec265_1920.jpg
END:VEVENT
BEGIN:VEVENT
DTSTART;TZID=Europe/London:20240218T100000
DTEND;TZID=Europe/London:20240218T110000
DTSTAMP:20260422T035403
CREATED:20240228T183305Z
LAST-MODIFIED:20240228T183305Z
UID:4117-1708250400-1708254000@stmarysmicheldever.co.uk
SUMMARY:Holy Communion with Baptism
DESCRIPTION:Rev’d Rob Rees & Rev’d James Whymark
URL:https://stmarysmicheldever.co.uk/event/holy-communion-with-baptism/
LOCATION:St Mary the Virgin\, Church Street\, Micheldever\, Hants\, SO21 3DG\, United Kingdom
CATEGORIES:Church Service
ATTACH;FMTTYPE=image/jpeg:https://stmarysmicheldever.co.uk/wp-content/uploads/2022/11/communion-g502fec265_1920.jpg
END:VEVENT
BEGIN:VEVENT
DTSTART;TZID=Europe/London:20240228T070000
DTEND;TZID=Europe/London:20240228T203000
DTSTAMP:20260422T035403
CREATED:20240225T192329Z
LAST-MODIFIED:20240225T192329Z
UID:4105-1709103600-1709152200@stmarysmicheldever.co.uk
SUMMARY:Lenten Course - Christianity Explored
DESCRIPTION:
URL:https://stmarysmicheldever.co.uk/event/lenten-course-christianity-explored/
LOCATION:Hants
CATEGORIES:Easter
ATTACH;FMTTYPE=image/jpeg:https://stmarysmicheldever.co.uk/wp-content/uploads/2024/02/lent-e1708888961522.jpg
END:VEVENT
END:VCALENDAR