BEGIN:VCALENDAR
VERSION:2.0
PRODID:-//St Mary&#039;s Church - ECPv6.15.20//NONSGML v1.0//EN
CALSCALE:GREGORIAN
METHOD:PUBLISH
X-WR-CALNAME:St Mary&#039;s Church
X-ORIGINAL-URL:https://stmarysmicheldever.co.uk
X-WR-CALDESC:Events for St Mary&#039;s Church
REFRESH-INTERVAL;VALUE=DURATION:PT1H
X-Robots-Tag:noindex
X-PUBLISHED-TTL:PT1H
BEGIN:VTIMEZONE
TZID:Europe/London
BEGIN:DAYLIGHT
TZOFFSETFROM:+0000
TZOFFSETTO:+0100
TZNAME:BST
DTSTART:20220327T010000
END:DAYLIGHT
BEGIN:STANDARD
TZOFFSETFROM:+0100
TZOFFSETTO:+0000
TZNAME:GMT
DTSTART:20221030T010000
END:STANDARD
BEGIN:DAYLIGHT
TZOFFSETFROM:+0000
TZOFFSETTO:+0100
TZNAME:BST
DTSTART:20230326T010000
END:DAYLIGHT
BEGIN:STANDARD
TZOFFSETFROM:+0100
TZOFFSETTO:+0000
TZNAME:GMT
DTSTART:20231029T010000
END:STANDARD
BEGIN:DAYLIGHT
TZOFFSETFROM:+0000
TZOFFSETTO:+0100
TZNAME:BST
DTSTART:20240331T010000
END:DAYLIGHT
BEGIN:STANDARD
TZOFFSETFROM:+0100
TZOFFSETTO:+0000
TZNAME:GMT
DTSTART:20241027T010000
END:STANDARD
END:VTIMEZONE
BEGIN:VEVENT
DTSTART;TZID=Europe/London:20231001T090000
DTEND;TZID=Europe/London:20231001T100000
DTSTAMP:20260422T102008
CREATED:20230731T120904Z
LAST-MODIFIED:20230731T130056Z
UID:3896-1696150800-1696154400@stmarysmicheldever.co.uk
SUMMARY:BCP Holy Communion (said)
DESCRIPTION:BCP Holy Communion (said) \nRev’d Rob Rees
URL:https://stmarysmicheldever.co.uk/event/bcp-holy-communion-said-5/
LOCATION:St Mary the Virgin\, Church Street\, Micheldever\, Hants\, SO21 3DG\, United Kingdom
CATEGORIES:Church Service
ATTACH;FMTTYPE=image/jpeg:https://stmarysmicheldever.co.uk/wp-content/uploads/2022/11/communion-g502fec265_1920.jpg
END:VEVENT
BEGIN:VEVENT
DTSTART;TZID=Europe/London:20231008T180000
DTEND;TZID=Europe/London:20231008T190000
DTSTAMP:20260422T102008
CREATED:20230731T124620Z
LAST-MODIFIED:20230731T124620Z
UID:3902-1696788000-1696791600@stmarysmicheldever.co.uk
SUMMARY:Evensong
DESCRIPTION:Evensong \n\n\n\nLed by Rev’d Rob Rees & Claire Bentham\n\n\n\n 
URL:https://stmarysmicheldever.co.uk/event/evensong-7/
LOCATION:St Mary the Virgin\, Church Street\, Micheldever\, Hants\, SO21 3DG\, United Kingdom
CATEGORIES:Church Service
ATTACH;FMTTYPE=image/jpeg:https://stmarysmicheldever.co.uk/wp-content/uploads/2022/11/candles-ged1416f4c_1280.jpg
END:VEVENT
BEGIN:VEVENT
DTSTART;TZID=Europe/London:20231015T100000
DTEND;TZID=Europe/London:20231015T110000
DTSTAMP:20260422T102008
CREATED:20230731T125045Z
LAST-MODIFIED:20230731T125232Z
UID:3904-1697364000-1697367600@stmarysmicheldever.co.uk
SUMMARY:Benefice Service - Holy Communion
DESCRIPTION:Benefice Service – Holy Communion \nat St Mary & St Michael\, Stoke Charity \nLed by The Very Reverend Catherine Ogle\, Dean of Winchester Cathedral\, Rev’d Dr Robert Rees & Ministry Team
URL:https://stmarysmicheldever.co.uk/event/benefice-service-holy-communion/
LOCATION:St Mary & St Michael\, Stoke Charity\, Stoke Charity\, Winchester\, Hants\, SO21 3PG\, United Kingdom
CATEGORIES:Church Service
ATTACH;FMTTYPE=image/jpeg:https://stmarysmicheldever.co.uk/wp-content/uploads/2022/11/communion-g502fec265_1920.jpg
END:VEVENT
BEGIN:VEVENT
DTSTART;TZID=Europe/London:20231029T100000
DTEND;TZID=Europe/London:20231029T110000
DTSTAMP:20260422T102008
CREATED:20230731T125426Z
LAST-MODIFIED:20230731T125426Z
UID:3909-1698573600-1698577200@stmarysmicheldever.co.uk
SUMMARY:Holy Communion
DESCRIPTION:Holy Communion \nRev’d Rob Rees & Rev’d James Whymark
URL:https://stmarysmicheldever.co.uk/event/holy-communion-16/
LOCATION:St Mary the Virgin\, Church Street\, Micheldever\, Hants\, SO21 3DG\, United Kingdom
CATEGORIES:Church Service
ATTACH;FMTTYPE=image/jpeg:https://stmarysmicheldever.co.uk/wp-content/uploads/2022/11/communion-g502fec265_1920.jpg
END:VEVENT
END:VCALENDAR