BEGIN:VCALENDAR
VERSION:2.0
PRODID:-//St Mary&#039;s Church - ECPv6.15.20//NONSGML v1.0//EN
CALSCALE:GREGORIAN
METHOD:PUBLISH
X-ORIGINAL-URL:https://stmarysmicheldever.co.uk
X-WR-CALDESC:Events for St Mary&#039;s Church
REFRESH-INTERVAL;VALUE=DURATION:PT1H
X-Robots-Tag:noindex
X-PUBLISHED-TTL:PT1H
BEGIN:VTIMEZONE
TZID:Europe/London
BEGIN:DAYLIGHT
TZOFFSETFROM:+0000
TZOFFSETTO:+0100
TZNAME:BST
DTSTART:20220327T010000
END:DAYLIGHT
BEGIN:STANDARD
TZOFFSETFROM:+0100
TZOFFSETTO:+0000
TZNAME:GMT
DTSTART:20221030T010000
END:STANDARD
BEGIN:DAYLIGHT
TZOFFSETFROM:+0000
TZOFFSETTO:+0100
TZNAME:BST
DTSTART:20230326T010000
END:DAYLIGHT
BEGIN:STANDARD
TZOFFSETFROM:+0100
TZOFFSETTO:+0000
TZNAME:GMT
DTSTART:20231029T010000
END:STANDARD
BEGIN:DAYLIGHT
TZOFFSETFROM:+0000
TZOFFSETTO:+0100
TZNAME:BST
DTSTART:20240331T010000
END:DAYLIGHT
BEGIN:STANDARD
TZOFFSETFROM:+0100
TZOFFSETTO:+0000
TZNAME:GMT
DTSTART:20241027T010000
END:STANDARD
END:VTIMEZONE
BEGIN:VEVENT
DTSTART;TZID=Europe/London:20230506T123000
DTEND;TZID=Europe/London:20230506T170000
DTSTAMP:20260422T183808
CREATED:20230404T100347Z
LAST-MODIFIED:20230404T100347Z
UID:3817-1683376200-1683392400@stmarysmicheldever.co.uk
SUMMARY:Coronation Lunch
DESCRIPTION:
URL:https://stmarysmicheldever.co.uk/event/coronation-lunch/
LOCATION:Lord Rank Playing Field\, 29-21 Duke St\, Winchester\, SO21 3DJ\, United Kingdom
CATEGORIES:Entertainment
ATTACH;FMTTYPE=image/jpeg:https://stmarysmicheldever.co.uk/wp-content/uploads/2023/04/CORONATION-BIG-LUNCH.jpg
END:VEVENT
BEGIN:VEVENT
DTSTART;TZID=Europe/London:20230507T091500
DTEND;TZID=Europe/London:20230507T214500
DTSTAMP:20260422T183808
CREATED:20230327T164602Z
LAST-MODIFIED:20230327T170042Z
UID:3807-1683450900-1683495900@stmarysmicheldever.co.uk
SUMMARY:BCP Holy Communion (Said)
DESCRIPTION:BCP Holy Communion (Said)
URL:https://stmarysmicheldever.co.uk/event/bcp-holy-communion-said/
LOCATION:St Mary the Virgin\, Church Street\, Micheldever\, Hants\, SO21 3DG\, United Kingdom
CATEGORIES:Church Service
ATTACH;FMTTYPE=image/jpeg:https://stmarysmicheldever.co.uk/wp-content/uploads/2022/11/supper-g9fb3fda82_1920.jpg
END:VEVENT
BEGIN:VEVENT
DTSTART;TZID=Europe/London:20230507T100000
DTEND;TZID=Europe/London:20230507T110000
DTSTAMP:20260422T183808
CREATED:20230327T165305Z
LAST-MODIFIED:20230327T165907Z
UID:3810-1683453600-1683457200@stmarysmicheldever.co.uk
SUMMARY:A Service of Thanksgiving for The King's Coronation
DESCRIPTION:A Service of Thanksgiving for The King’s Coronation
URL:https://stmarysmicheldever.co.uk/event/a-service-of-thanksgiving-for-the-kings-coronation/
LOCATION:St Mary the Virgin\, Church Street\, Micheldever\, Hants\, SO21 3DG\, United Kingdom
CATEGORIES:Church Service
ATTACH;FMTTYPE=image/jpeg:https://stmarysmicheldever.co.uk/wp-content/uploads/2023/03/coronation-7467740_1280.jpg
END:VEVENT
BEGIN:VEVENT
DTSTART;TZID=Europe/London:20230508T090000
DTEND;TZID=Europe/London:20230508T120000
DTSTAMP:20260422T183808
CREATED:20230412T170028Z
LAST-MODIFIED:20230412T170028Z
UID:3833-1683536400-1683547200@stmarysmicheldever.co.uk
SUMMARY:CORONATION BIG HELP OUT COMMUNITY PROJECT
DESCRIPTION:As our Coronation Big Help Out in the Community Project we are planning to paint the exterior of the pavilion at the Lord Rank Playing Field on Monday 8th May from 9am – midday. We would welcome your help\, if only for an hour. Paint and brushes will be provided. Please contact Olly  01962 774516 orb@bramleys.org or Maurelle  01962 774395 l.dagostino@btinternet.com for more information. Thank you.
URL:https://stmarysmicheldever.co.uk/event/coronation-big-help-out-community-project/
LOCATION:Lord Rank Playing Field\, 29-21 Duke St\, Winchester\, SO21 3DJ\, United Kingdom
ATTACH;FMTTYPE=image/jpeg:https://stmarysmicheldever.co.uk/wp-content/uploads/2023/04/caminito-g317f3ea6e_1280.jpg
END:VEVENT
BEGIN:VEVENT
DTSTART;TZID=Europe/London:20230515T180000
DTEND;TZID=Europe/London:20230515T190000
DTSTAMP:20260422T183808
CREATED:20230319T120617Z
LAST-MODIFIED:20230418T134916Z
UID:3796-1684173600-1684177200@stmarysmicheldever.co.uk
SUMMARY:APCM - Open Meeting
DESCRIPTION:APCM – Open Meeting \nReview of annual accounts and church warden review of 2022 \nAll welcome
URL:https://stmarysmicheldever.co.uk/event/apcm-open-meeting/
LOCATION:St Mary the Virgin\, Church Street\, Micheldever\, Hants\, SO21 3DG\, United Kingdom
CATEGORIES:Meeting
ATTACH;FMTTYPE=image/jpeg:https://stmarysmicheldever.co.uk/wp-content/uploads/2023/03/seminar-gd5306ac49_1920.jpg
END:VEVENT
BEGIN:VEVENT
DTSTART;TZID=Europe/London:20230521T100000
DTEND;TZID=Europe/London:20230521T110000
DTSTAMP:20260422T183808
CREATED:20230327T170423Z
LAST-MODIFIED:20230327T170525Z
UID:3814-1684663200-1684666800@stmarysmicheldever.co.uk
SUMMARY:Holy Communion
DESCRIPTION:Holy Communion
URL:https://stmarysmicheldever.co.uk/event/holy-communion-11/
LOCATION:St Mary the Virgin\, Church Street\, Micheldever\, Hants\, SO21 3DG\, United Kingdom
CATEGORIES:Church Service
ATTACH;FMTTYPE=image/jpeg:https://stmarysmicheldever.co.uk/wp-content/uploads/2022/11/communion-g502fec265_1920.jpg
END:VEVENT
END:VCALENDAR