BEGIN:VCALENDAR
VERSION:2.0
PRODID:-//St Mary&#039;s Church - ECPv6.15.20//NONSGML v1.0//EN
CALSCALE:GREGORIAN
METHOD:PUBLISH
X-WR-CALNAME:St Mary&#039;s Church
X-ORIGINAL-URL:https://stmarysmicheldever.co.uk
X-WR-CALDESC:Events for St Mary&#039;s Church
REFRESH-INTERVAL;VALUE=DURATION:PT1H
X-Robots-Tag:noindex
X-PUBLISHED-TTL:PT1H
BEGIN:VTIMEZONE
TZID:Europe/London
BEGIN:DAYLIGHT
TZOFFSETFROM:+0000
TZOFFSETTO:+0100
TZNAME:BST
DTSTART:20210328T010000
END:DAYLIGHT
BEGIN:STANDARD
TZOFFSETFROM:+0100
TZOFFSETTO:+0000
TZNAME:GMT
DTSTART:20211031T010000
END:STANDARD
BEGIN:DAYLIGHT
TZOFFSETFROM:+0000
TZOFFSETTO:+0100
TZNAME:BST
DTSTART:20220327T010000
END:DAYLIGHT
BEGIN:STANDARD
TZOFFSETFROM:+0100
TZOFFSETTO:+0000
TZNAME:GMT
DTSTART:20221030T010000
END:STANDARD
BEGIN:DAYLIGHT
TZOFFSETFROM:+0000
TZOFFSETTO:+0100
TZNAME:BST
DTSTART:20230326T010000
END:DAYLIGHT
BEGIN:STANDARD
TZOFFSETFROM:+0100
TZOFFSETTO:+0000
TZNAME:GMT
DTSTART:20231029T010000
END:STANDARD
BEGIN:DAYLIGHT
TZOFFSETFROM:+0000
TZOFFSETTO:+0100
TZNAME:BST
DTSTART:20240331T010000
END:DAYLIGHT
BEGIN:STANDARD
TZOFFSETFROM:+0100
TZOFFSETTO:+0000
TZNAME:GMT
DTSTART:20241027T010000
END:STANDARD
END:VTIMEZONE
BEGIN:VEVENT
DTSTART;TZID=Europe/London:20230205T091500
DTEND;TZID=Europe/London:20230205T100000
DTSTAMP:20260420T081155
CREATED:20230109T172615Z
LAST-MODIFIED:20230111T201420Z
UID:3734-1675588500-1675591200@stmarysmicheldever.co.uk
SUMMARY:Holy Communion
DESCRIPTION:Holy Communion \nRvd Rob Rees
URL:https://stmarysmicheldever.co.uk/event/holy-communion-8/
LOCATION:St Mary the Virgin\, Church Street\, Micheldever\, Hants\, SO21 3DG\, United Kingdom
CATEGORIES:Church Service
ATTACH;FMTTYPE=image/jpeg:https://stmarysmicheldever.co.uk/wp-content/uploads/2022/11/communion-g502fec265_1920.jpg
END:VEVENT
BEGIN:VEVENT
DTSTART;TZID=Europe/London:20230129T110000
DTEND;TZID=Europe/London:20230129T110000
DTSTAMP:20260420T081155
CREATED:20221111T194531Z
LAST-MODIFIED:20221112T203359Z
UID:3676-1674990000-1674990000@stmarysmicheldever.co.uk
SUMMARY:Holy Communion
DESCRIPTION:Holy Communion \nBenefice Service to be held at Winchester Cathedral
URL:https://stmarysmicheldever.co.uk/event/holy-communion-3/
LOCATION:Winchester Cathedral\, Winchester\, Hants\, United Kingdom
CATEGORIES:Church Service
ATTACH;FMTTYPE=image/jpeg:https://stmarysmicheldever.co.uk/wp-content/uploads/2022/11/cathedral-g3b3f6d030_1920.jpg
END:VEVENT
BEGIN:VEVENT
DTSTART;TZID=Europe/London:20230129T080000
DTEND;TZID=Europe/London:20230129T083000
DTSTAMP:20260420T081155
CREATED:20221111T194126Z
LAST-MODIFIED:20221112T203509Z
UID:3674-1674979200-1674981000@stmarysmicheldever.co.uk
SUMMARY:Holy Communion
DESCRIPTION:Holy Communion \nRv’d Rob Rees
URL:https://stmarysmicheldever.co.uk/event/holy-communion-2/
LOCATION:St Mary the Virgin\, Church Street\, Micheldever\, Hants\, SO21 3DG\, United Kingdom
CATEGORIES:Church Service
ATTACH;FMTTYPE=image/jpeg:https://stmarysmicheldever.co.uk/wp-content/uploads/2022/11/supper-g9fb3fda82_1920.jpg
END:VEVENT
BEGIN:VEVENT
DTSTART;TZID=Europe/London:20230122T100000
DTEND;TZID=Europe/London:20230122T230000
DTSTAMP:20260420T081155
CREATED:20221111T193946Z
LAST-MODIFIED:20221112T203621Z
UID:3672-1674381600-1674428400@stmarysmicheldever.co.uk
SUMMARY:Holy Communion
DESCRIPTION:Holy Communion \nRvd Christine Smith
URL:https://stmarysmicheldever.co.uk/event/holy-communion/
LOCATION:St Mary the Virgin\, Church Street\, Micheldever\, Hants\, SO21 3DG\, United Kingdom
CATEGORIES:Church Service
ATTACH;FMTTYPE=image/jpeg:https://stmarysmicheldever.co.uk/wp-content/uploads/2022/11/communion-g502fec265_1920.jpg
END:VEVENT
BEGIN:VEVENT
DTSTART;TZID=Europe/London:20230120T193000
DTEND;TZID=Europe/London:20230120T210000
DTSTAMP:20260420T081155
CREATED:20221115T202241Z
LAST-MODIFIED:20221115T203107Z
UID:3700-1674243000-1674248400@stmarysmicheldever.co.uk
SUMMARY:Talk - The sale of Louisiana to the Americans by the French - Charles Harris
DESCRIPTION:Come along to a fascinating fundraising talk by Charles Harris in aid of St Mary’s taking place at the Warren Centre\, Micheldever Station. \n 
URL:https://stmarysmicheldever.co.uk/event/talk-the-sale-of-louisiana-to-the-americans-by-the-french-charles-harris/
LOCATION:Warren Centre\, Micheldever Station\, Andover Rd\, Winchester\, Hants\, SO21 3AR
CATEGORIES:Entertainment,Fundraising
ATTACH;FMTTYPE=image/jpeg:https://stmarysmicheldever.co.uk/wp-content/uploads/2022/11/oak-ga557fd4bb_1920.jpg
END:VEVENT
BEGIN:VEVENT
DTSTART;TZID=Europe/London:20230115T180000
DTEND;TZID=Europe/London:20230115T190000
DTSTAMP:20260420T081155
CREATED:20221111T193734Z
LAST-MODIFIED:20221112T203641Z
UID:3664-1673805600-1673809200@stmarysmicheldever.co.uk
SUMMARY:Evensong
DESCRIPTION:Evensong \nRvd Rob Rees
URL:https://stmarysmicheldever.co.uk/event/evensong/
LOCATION:St Mary the Virgin\, Church Street\, Micheldever\, Hants\, SO21 3DG\, United Kingdom
CATEGORIES:Church Service
ATTACH;FMTTYPE=image/jpeg:https://stmarysmicheldever.co.uk/wp-content/uploads/2022/11/candles-ged1416f4c_1280.jpg
END:VEVENT
BEGIN:VEVENT
DTSTART;TZID=Europe/London:20230109T100000
DTEND;TZID=Europe/London:20230109T230000
DTSTAMP:20260420T081155
CREATED:20230109T171903Z
LAST-MODIFIED:20230109T172057Z
UID:3731-1673258400-1673305200@stmarysmicheldever.co.uk
SUMMARY:Holy Communion
DESCRIPTION:Holy Communion \nRvd Rob Rees
URL:https://stmarysmicheldever.co.uk/event/holy-communion-7/
LOCATION:St Mary the Virgin\, Church Street\, Micheldever\, Hants\, SO21 3DG\, United Kingdom
CATEGORIES:Church Service
ATTACH;FMTTYPE=image/jpeg:https://stmarysmicheldever.co.uk/wp-content/uploads/2022/11/communion-g502fec265_1920.jpg
END:VEVENT
BEGIN:VEVENT
DTSTART;TZID=Europe/London:20230109T100000
DTEND;TZID=Europe/London:20230109T110000
DTSTAMP:20260420T081155
CREATED:20230109T171204Z
LAST-MODIFIED:20230109T171204Z
UID:3725-1673258400-1673262000@stmarysmicheldever.co.uk
SUMMARY:Holy Communion
DESCRIPTION:Holy Communion \nRvd Rob Rees
URL:https://stmarysmicheldever.co.uk/event/holy-communion-5/
LOCATION:St Mary the Virgin\, Church Street\, Micheldever\, Hants\, SO21 3DG\, United Kingdom
ATTACH;FMTTYPE=image/jpeg:https://stmarysmicheldever.co.uk/wp-content/uploads/2022/11/communion-g502fec265_1920.jpg
END:VEVENT
BEGIN:VEVENT
DTSTART;TZID=Europe/London:20230108T100000
DTEND;TZID=Europe/London:20230108T110000
DTSTAMP:20260420T081155
CREATED:20221111T193242Z
LAST-MODIFIED:20221130T211304Z
UID:3662-1673172000-1673175600@stmarysmicheldever.co.uk
SUMMARY:Cafe Church - Welcome to the New Year in partnership with Micheldever Village School
DESCRIPTION:Cafe Church followed by breakfast \nWelcome to the New Year –  in partnership with Micheldever Village School \nRvd. Rob Rees
URL:https://stmarysmicheldever.co.uk/event/cafe-church-2/
LOCATION:St Mary the Virgin\, Church Street\, Micheldever\, Hants\, SO21 3DG\, United Kingdom
CATEGORIES:Church Service
ATTACH;FMTTYPE=image/jpeg:https://stmarysmicheldever.co.uk/wp-content/uploads/2022/11/happy-new-year-gb64b8388b_1920.jpg
END:VEVENT
BEGIN:VEVENT
DTSTART;TZID=Europe/London:20230101T100000
DTEND;TZID=Europe/London:20230101T120000
DTSTAMP:20260420T081155
CREATED:20221130T203552Z
LAST-MODIFIED:20221130T203552Z
UID:3713-1672567200-1672574400@stmarysmicheldever.co.uk
SUMMARY:New Year's Day Breakfast
DESCRIPTION:Celebrate the 2023 with a New Year’s Day Breakfast at East Stratton Village Hall. \nAll welcome. Pre-booking essential. \n 
URL:https://stmarysmicheldever.co.uk/event/new-years-day-breakfast/
LOCATION:East Stratton Village Hall\, Church Bank Rd\, East Stratton\, SO21 3DU
CATEGORIES:Entertainment,Fundraising,Meal
ATTACH;FMTTYPE=image/jpeg:https://stmarysmicheldever.co.uk/wp-content/uploads/2022/11/East-Stratton-New-Year-Breakfast.jpg
END:VEVENT
BEGIN:VEVENT
DTSTART;TZID=Europe/London:20230101T093000
DTEND;TZID=Europe/London:20230101T103000
DTSTAMP:20260420T081155
CREATED:20221110T200844Z
LAST-MODIFIED:20221112T203720Z
UID:3641-1672565400-1672569000@stmarysmicheldever.co.uk
SUMMARY:Benefice Service - East Stratton
DESCRIPTION:Holy Communion followed by breakfast \nRvd Rob Rees
URL:https://stmarysmicheldever.co.uk/event/benefice-service-east-stratton/
LOCATION:St Mary the Virgin\, Church Street\, Micheldever\, Hants\, SO21 3DG\, United Kingdom
CATEGORIES:Church Service
ATTACH;FMTTYPE=image/jpeg:https://stmarysmicheldever.co.uk/wp-content/uploads/2022/11/supper-g9fb3fda82_1920.jpg
END:VEVENT
BEGIN:VEVENT
DTSTART;VALUE=DATE:20221231
DTEND;VALUE=DATE:20230101
DTSTAMP:20260420T081155
CREATED:20221110T211310Z
LAST-MODIFIED:20221207T210858Z
UID:3651-1672444800-1672531199@stmarysmicheldever.co.uk
SUMMARY:St Mary's Church Services December 2022
DESCRIPTION:St Mary’s Church Services December 2022 \n 
URL:https://stmarysmicheldever.co.uk/event/st-marys-church-december-services/
LOCATION:St Mary the Virgin\, Church Street\, Micheldever\, Hants\, SO21 3DG\, United Kingdom
CATEGORIES:Church Service
ATTACH;FMTTYPE=image/jpeg:https://stmarysmicheldever.co.uk/wp-content/uploads/2022/11/December-2022-Services-St-Marys-V02.jpg
END:VEVENT
BEGIN:VEVENT
DTSTART;TZID=Europe/London:20221225T100000
DTEND;TZID=Europe/London:20221225T110000
DTSTAMP:20260420T081155
CREATED:20221110T201457Z
LAST-MODIFIED:20221207T203958Z
UID:3646-1671962400-1671966000@stmarysmicheldever.co.uk
SUMMARY:Family Service with Holy Communion
DESCRIPTION:Family Service with Holy Communion \nClerical Registry
URL:https://stmarysmicheldever.co.uk/event/family-service-with-holy-communion/
LOCATION:St Mary the Virgin\, Church Street\, Micheldever\, Hants\, SO21 3DG\, United Kingdom
CATEGORIES:Church Service
ATTACH;FMTTYPE=image/jpeg:https://stmarysmicheldever.co.uk/wp-content/uploads/2022/11/christmas-story-gca4cfd2d2_1920.jpg
END:VEVENT
BEGIN:VEVENT
DTSTART;TZID=Europe/London:20221224T150000
DTEND;TZID=Europe/London:20221224T160000
DTSTAMP:20260420T081155
CREATED:20221110T195736Z
LAST-MODIFIED:20221112T203825Z
UID:3639-1671894000-1671897600@stmarysmicheldever.co.uk
SUMMARY:Crib Service
DESCRIPTION:Short child-friendly Crib /Nativity Service \nRvd Rob Rees
URL:https://stmarysmicheldever.co.uk/event/crib-service/
LOCATION:St Mary the Virgin\, Church Street\, Micheldever\, Hants\, SO21 3DG\, United Kingdom
CATEGORIES:Church Service
ATTACH;FMTTYPE=image/jpeg:https://stmarysmicheldever.co.uk/wp-content/uploads/2022/11/crib-g9063aabef_1920.jpg
END:VEVENT
BEGIN:VEVENT
DTSTART;TZID=Europe/London:20221218T183000
DTEND;TZID=Europe/London:20221218T193000
DTSTAMP:20260420T081155
CREATED:20221110T195522Z
LAST-MODIFIED:20221112T203843Z
UID:3637-1671388200-1671391800@stmarysmicheldever.co.uk
SUMMARY:Carol Service
DESCRIPTION:Evening Carol Service \nRvd Rob Rees
URL:https://stmarysmicheldever.co.uk/event/carol-service/
LOCATION:St Mary the Virgin\, Church Street\, Micheldever\, Hants\, SO21 3DG\, United Kingdom
CATEGORIES:Church Service
ATTACH;FMTTYPE=image/jpeg:https://stmarysmicheldever.co.uk/wp-content/uploads/2022/11/carol-singers-g00e174d64_1920.jpg
END:VEVENT
BEGIN:VEVENT
DTSTART;TZID=Europe/London:20221211T180000
DTEND;TZID=Europe/London:20221211T200000
DTSTAMP:20260420T081155
CREATED:20221101T135443Z
LAST-MODIFIED:20221110T212821Z
UID:3595-1670781600-1670788800@stmarysmicheldever.co.uk
SUMMARY:Dever Singers Christmas Concert
DESCRIPTION:The Dever Singers will be holding a concert at St Mary’s church on Sunday\, 11th December 2022 at 6pm. \nThere will be a mixture of classical and popular Christmas songs.
URL:https://stmarysmicheldever.co.uk/event/dever-singers-christmas-concert-11th-december-2022/
LOCATION:St Mary the Virgin\, Church Street\, Micheldever\, Hants\, SO21 3DG\, United Kingdom
CATEGORIES:Entertainment
ATTACH;FMTTYPE=image/jpeg:https://stmarysmicheldever.co.uk/wp-content/uploads/2022/11/choir-gd65f5b070_1920.jpg
END:VEVENT
BEGIN:VEVENT
DTSTART;TZID=Europe/London:20221207T123000
DTEND;TZID=Europe/London:20221207T140000
DTSTAMP:20260420T081155
CREATED:20210913T190233Z
LAST-MODIFIED:20221130T211917Z
UID:2574-1670416200-1670421600@stmarysmicheldever.co.uk
SUMMARY:Micheldever Village Christmas Lunch
DESCRIPTION:St Mary’s sponsors a monthly Village Lunch for senior citizens.  All are welcome. \nA two course lunch costs £5.00 a head.  The lunch is usually held on the first Wednesday of every month.  It is very popular. \nNo need to reserve a place. \nThe Christmas lunch will take place on the 7th December.
URL:https://stmarysmicheldever.co.uk/event/marys-micheldever-village-lunch/
LOCATION:Northbrook Hall\, 104 Duke St\, Micheldever\, SO21 3DF
CATEGORIES:Entertainment
ATTACH;FMTTYPE=image/jpeg:https://stmarysmicheldever.co.uk/wp-content/uploads/2021/09/christmas-table-g79c01bfd4_1920.jpg
END:VEVENT
BEGIN:VEVENT
DTSTART;TZID=Europe/London:20221204T100000
DTEND;TZID=Europe/London:20221204T110000
DTSTAMP:20260420T081155
CREATED:20221110T195030Z
LAST-MODIFIED:20221202T141401Z
UID:3631-1670148000-1670151600@stmarysmicheldever.co.uk
SUMMARY:Cafe Church
DESCRIPTION:Short\, child friendly relaxed service with breakfast \nRvd Rob Rees
URL:https://stmarysmicheldever.co.uk/event/cafe-church/
LOCATION:St Mary the Virgin\, Church Street\, Micheldever\, Hants\, SO21 3DG\, United Kingdom
CATEGORIES:Church Service
ATTACH;FMTTYPE=image/jpeg:https://stmarysmicheldever.co.uk/wp-content/uploads/2022/11/cafe-church-general-image.jpg
END:VEVENT
BEGIN:VEVENT
DTSTART;TZID=Europe/London:20221122T093000
DTEND;TZID=Europe/London:20221122T230000
DTSTAMP:20260420T081155
CREATED:20221101T170203Z
LAST-MODIFIED:20221101T171843Z
UID:3618-1669109400-1669158000@stmarysmicheldever.co.uk
SUMMARY:Open Morning - Micheldever C of E Primary School\, Church Street 22nd November 2022
DESCRIPTION:Open Morning – Micheldever C of E Primary School\, Church Street 22nd November 2022
URL:https://stmarysmicheldever.co.uk/event/open-morning-micheldever-c-of-e-primary-school-church-street-22nd-november-2022/
LOCATION:Micheldever C of E Primary School\, Church Street\, Micheldever\, Hampshire\, SO21 3DB
CATEGORIES:School
ATTACH;FMTTYPE=image/jpeg:https://stmarysmicheldever.co.uk/wp-content/uploads/2022/11/children.jpg
END:VEVENT
BEGIN:VEVENT
DTSTART;TZID=Europe/London:20221120T100000
DTEND;TZID=Europe/London:20221120T110000
DTSTAMP:20260420T081155
CREATED:20221101T164800Z
LAST-MODIFIED:20221112T212028Z
UID:3611-1668938400-1668942000@stmarysmicheldever.co.uk
SUMMARY:St Mary's Micheldever Services November 2022
DESCRIPTION:  \nSt Mary’s Church\, Micheldever\, November 2022 Services
URL:https://stmarysmicheldever.co.uk/event/st-marys-micheldever-services-november-2022/
LOCATION:St Mary the Virgin\, Church Street\, Micheldever\, Hants\, SO21 3DG\, United Kingdom
CATEGORIES:Church Service
ATTACH;FMTTYPE=image/jpeg:https://stmarysmicheldever.co.uk/wp-content/uploads/2022/11/leaves.jpg
END:VEVENT
BEGIN:VEVENT
DTSTART;TZID=Europe/London:20221113T105000
DTEND;TZID=Europe/London:20221113T120000
DTSTAMP:20260420T081155
CREATED:20221101T120531Z
LAST-MODIFIED:20221112T211133Z
UID:3580-1668336600-1668340800@stmarysmicheldever.co.uk
SUMMARY:Remembrance Service Sunday 13th November 2022.
DESCRIPTION:The 2022 Remembrance Service will take place on the 13th November at 10.50am at St Mary’s Church. All welcome. \n 
URL:https://stmarysmicheldever.co.uk/event/remembrance-service-2022/
LOCATION:St Mary the Virgin\, Church Street\, Micheldever\, Hants\, SO21 3DG\, United Kingdom
CATEGORIES:Church Service
ATTACH;FMTTYPE=image/jpeg:https://stmarysmicheldever.co.uk/wp-content/uploads/2022/11/crosses.jpg
END:VEVENT
END:VCALENDAR