BEGIN:VCALENDAR
VERSION:2.0
PRODID:-//St Mary&#039;s Church - ECPv6.15.20//NONSGML v1.0//EN
CALSCALE:GREGORIAN
METHOD:PUBLISH
X-ORIGINAL-URL:https://stmarysmicheldever.co.uk
X-WR-CALDESC:Events for St Mary&#039;s Church
REFRESH-INTERVAL;VALUE=DURATION:PT1H
X-Robots-Tag:noindex
X-PUBLISHED-TTL:PT1H
BEGIN:VTIMEZONE
TZID:Europe/London
BEGIN:DAYLIGHT
TZOFFSETFROM:+0000
TZOFFSETTO:+0100
TZNAME:BST
DTSTART:20230326T010000
END:DAYLIGHT
BEGIN:STANDARD
TZOFFSETFROM:+0100
TZOFFSETTO:+0000
TZNAME:GMT
DTSTART:20231029T010000
END:STANDARD
BEGIN:DAYLIGHT
TZOFFSETFROM:+0000
TZOFFSETTO:+0100
TZNAME:BST
DTSTART:20240331T010000
END:DAYLIGHT
BEGIN:STANDARD
TZOFFSETFROM:+0100
TZOFFSETTO:+0000
TZNAME:GMT
DTSTART:20241027T010000
END:STANDARD
BEGIN:DAYLIGHT
TZOFFSETFROM:+0000
TZOFFSETTO:+0100
TZNAME:BST
DTSTART:20250330T010000
END:DAYLIGHT
BEGIN:STANDARD
TZOFFSETFROM:+0100
TZOFFSETTO:+0000
TZNAME:GMT
DTSTART:20251026T010000
END:STANDARD
BEGIN:DAYLIGHT
TZOFFSETFROM:+0000
TZOFFSETTO:+0100
TZNAME:BST
DTSTART:20260329T010000
END:DAYLIGHT
BEGIN:STANDARD
TZOFFSETFROM:+0100
TZOFFSETTO:+0000
TZNAME:GMT
DTSTART:20261025T010000
END:STANDARD
BEGIN:DAYLIGHT
TZOFFSETFROM:+0000
TZOFFSETTO:+0100
TZNAME:BST
DTSTART:20270328T010000
END:DAYLIGHT
BEGIN:STANDARD
TZOFFSETFROM:+0100
TZOFFSETTO:+0000
TZNAME:GMT
DTSTART:20271031T010000
END:STANDARD
END:VTIMEZONE
BEGIN:VEVENT
DTSTART;TZID=Europe/London:20260412T180000
DTEND;TZID=Europe/London:20260412T190000
DTSTAMP:20260421T112305
CREATED:20260113T153504Z
LAST-MODIFIED:20260113T153517Z
UID:5076-1776016800-1776020400@stmarysmicheldever.co.uk
SUMMARY:Evensong
DESCRIPTION:Rev’d Jo Criscenti
URL:https://stmarysmicheldever.co.uk/event/evensong-22/
LOCATION:St Mary the Virgin\, Church Street\, Micheldever\, Hants\, SO21 3DG\, United Kingdom
CATEGORIES:Church Service,Easter
ATTACH;FMTTYPE=image/jpeg:https://stmarysmicheldever.co.uk/wp-content/uploads/2026/01/church-windows-2217785_1280.jpg
END:VEVENT
BEGIN:VEVENT
DTSTART;TZID=Europe/London:20260405T110000
DTEND;TZID=Europe/London:20260405T120000
DTSTAMP:20260421T112305
CREATED:20260113T153303Z
LAST-MODIFIED:20260113T153317Z
UID:5074-1775386800-1775390400@stmarysmicheldever.co.uk
SUMMARY:Festal Eucharist
DESCRIPTION:Rev’d Rob Rees & Rev’d Claire Bentham
URL:https://stmarysmicheldever.co.uk/event/festal-eucharist-2/
CATEGORIES:Church Service,Easter
ATTACH;FMTTYPE=image/jpeg:https://stmarysmicheldever.co.uk/wp-content/uploads/2026/01/eucharist-1591663_1280.jpg
END:VEVENT
BEGIN:VEVENT
DTSTART;TZID=Europe/London:20260403T100000
DTEND;TZID=Europe/London:20260403T110000
DTSTAMP:20260421T112305
CREATED:20260113T153123Z
LAST-MODIFIED:20260126T183758Z
UID:5072-1775210400-1775214000@stmarysmicheldever.co.uk
SUMMARY:Service of Readings\, Reflections and Quiet Devotion
DESCRIPTION:Rev’d Rob Rees and Rev’d Claire Bentham
URL:https://stmarysmicheldever.co.uk/event/service-of-readings-reflections-and-quiet-devotion/
LOCATION:St Mary the Virgin\, Church Street\, Micheldever\, Hants\, SO21 3DG\, United Kingdom
CATEGORIES:Church Service,Easter
ATTACH;FMTTYPE=image/jpeg:https://stmarysmicheldever.co.uk/wp-content/uploads/2026/01/prayer-g201edeb0c_1920.jpg
END:VEVENT
BEGIN:VEVENT
DTSTART;TZID=Europe/London:20260329T100000
DTEND;TZID=Europe/London:20260329T110000
DTSTAMP:20260421T112305
CREATED:20260327T180813Z
LAST-MODIFIED:20260327T181243Z
UID:5198-1774778400-1774782000@stmarysmicheldever.co.uk
SUMMARY:Palm Sunday with Procession and Holy Communion at All Saints\, East Stratton
DESCRIPTION:Benefice Service with Rt Rev’d Kelly Betteridge\, Bishop of Basingstoke & Ministry Team
URL:https://stmarysmicheldever.co.uk/event/palm-sunday-with-procession-and-holy-communion-at-east-stratton/
LOCATION:All Saints\, East Stratton
CATEGORIES:Benefice,Church Service,Easter
ATTACH;FMTTYPE=image/jpeg:https://stmarysmicheldever.co.uk/wp-content/uploads/2026/03/kimdcon-gospel-7187180-scaled.jpg
END:VEVENT
BEGIN:VEVENT
DTSTART;TZID=Europe/London:20250420T110000
DTEND;TZID=Europe/London:20250420T120000
DTSTAMP:20260421T112305
CREATED:20250207T121855Z
LAST-MODIFIED:20250221T173115Z
UID:4476-1745146800-1745150400@stmarysmicheldever.co.uk
SUMMARY:Easter Day\, Festal Eucharist
DESCRIPTION:Rev’d Jo Criscenti
URL:https://stmarysmicheldever.co.uk/event/festal-eucharist/
LOCATION:St Mary the Virgin\, Church Street\, Micheldever\, Hants\, SO21 3DG\, United Kingdom
CATEGORIES:Church Service,Easter
ATTACH;FMTTYPE=image/jpeg:https://stmarysmicheldever.co.uk/wp-content/uploads/2025/02/bread-gb559c8887_1920.jpg
END:VEVENT
BEGIN:VEVENT
DTSTART;TZID=Europe/London:20250419T100000
DTEND;TZID=Europe/London:20250419T130000
DTSTAMP:20260421T112305
CREATED:20250226T172134Z
LAST-MODIFIED:20250226T172134Z
UID:4582-1745056800-1745067600@stmarysmicheldever.co.uk
SUMMARY:Spring Churchyard clear up
DESCRIPTION:Please come along and help spruce up the church yard for summer.  All gardening /mowing tools and guidance provided.
URL:https://stmarysmicheldever.co.uk/event/spring-churchyard-clear-up/
LOCATION:St Mary the Virgin\, Church Street\, Micheldever\, Hants\, SO21 3DG\, United Kingdom
CATEGORIES:Easter,Volunteering
ATTACH;FMTTYPE=image/jpeg:https://stmarysmicheldever.co.uk/wp-content/uploads/2024/08/flowers-1.jpg
END:VEVENT
BEGIN:VEVENT
DTSTART;TZID=Europe/London:20250418T100000
DTEND;TZID=Europe/London:20250418T110000
DTSTAMP:20260421T112305
CREATED:20250207T121548Z
LAST-MODIFIED:20250221T173142Z
UID:4474-1744970400-1744974000@stmarysmicheldever.co.uk
SUMMARY:Good Friday\, Service of quiet devotion and reflection
DESCRIPTION:Rev’d Rob Rees
URL:https://stmarysmicheldever.co.uk/event/service-of-quiet-devotion-and-reflection/
LOCATION:St Mary the Virgin\, Church Street\, Micheldever\, Hants\, SO21 3DG\, United Kingdom
CATEGORIES:Church Service,Easter
ATTACH;FMTTYPE=image/jpeg:https://stmarysmicheldever.co.uk/wp-content/uploads/2024/10/prayer-g201edeb0c_1920.jpg
END:VEVENT
BEGIN:VEVENT
DTSTART;TZID=Europe/London:20250410T140000
DTEND;TZID=Europe/London:20250410T150000
DTSTAMP:20260421T112305
CREATED:20250404T103440Z
LAST-MODIFIED:20250405T093722Z
UID:4610-1744293600-1744297200@stmarysmicheldever.co.uk
SUMMARY:Messy Easter
DESCRIPTION:Rev’d Jo Criscenti \nAll children and grandchildren welcome.  Any assistance would also be gratefully received.
URL:https://stmarysmicheldever.co.uk/event/messy-easter-2/
LOCATION:St Mary the Virgin\, Church Street\, Micheldever\, Hants\, SO21 3DG\, United Kingdom
CATEGORIES:Children,Easter,Messy,School
ATTACH;FMTTYPE=image/png:https://stmarysmicheldever.co.uk/wp-content/uploads/2025/04/Flyer-for-Messy-Easter.png
END:VEVENT
BEGIN:VEVENT
DTSTART;TZID=Europe/London:20250330T100000
DTEND;TZID=Europe/London:20250330T110000
DTSTAMP:20260421T112305
CREATED:20250110T172117Z
LAST-MODIFIED:20250313T141506Z
UID:4413-1743328800-1743332400@stmarysmicheldever.co.uk
SUMMARY:Benefice Service for Mothering Sunday
DESCRIPTION:A Benefice Service for Mothering Sunday \nChildren will have the opportunity to offer freshly made posies to their mothers. \n 
URL:https://stmarysmicheldever.co.uk/event/benefice-service-for-mothering-sunday/
LOCATION:St Mary the Virgin\, Church Street\, Micheldever\, Hants\, SO21 3DG\, United Kingdom
CATEGORIES:Benefice,Children,Church Service,Easter
ATTACH;FMTTYPE=image/png:https://stmarysmicheldever.co.uk/wp-content/uploads/2025/01/daffodil-2540564_1280-1.png
END:VEVENT
BEGIN:VEVENT
DTSTART;TZID=Europe/London:20240331T110000
DTEND;TZID=Europe/London:20240331T120000
DTSTAMP:20260421T112305
CREATED:20231229T171313Z
LAST-MODIFIED:20240228T184514Z
UID:4042-1711882800-1711886400@stmarysmicheldever.co.uk
SUMMARY:Easter Sunday 11am Festal Eucharist (Holy Communion)
DESCRIPTION:led by Rev’d Rob Rees
URL:https://stmarysmicheldever.co.uk/event/easter-sunday-11am-festal-eucharist-holy-communion/
LOCATION:St Mary the Virgin\, Church Street\, Micheldever\, Hants\, SO21 3DG\, United Kingdom
CATEGORIES:Church Service,Easter
ATTACH;FMTTYPE=image/png:https://stmarysmicheldever.co.uk/wp-content/uploads/2023/12/jesus-christ-7030520_1280.png
END:VEVENT
BEGIN:VEVENT
DTSTART;TZID=Europe/London:20240330T140000
DTEND;TZID=Europe/London:20240330T143000
DTSTAMP:20260421T112305
CREATED:20240329T093917Z
LAST-MODIFIED:20240329T093917Z
UID:4137-1711807200-1711809000@stmarysmicheldever.co.uk
SUMMARY:Messy Easter
DESCRIPTION:There is a one hour “Messy Easter” event on Saturday 30th March at 2-3pm at St Mary’s Micheldever. Lots of fun and activities for youngsters relating to the Easter story. Please do come along.
URL:https://stmarysmicheldever.co.uk/event/messy-easter/
LOCATION:St Mary the Virgin\, Church Street\, Micheldever\, Hants\, SO21 3DG\, United Kingdom
CATEGORIES:Church Service,Easter
ATTACH;FMTTYPE=image/jpeg:https://stmarysmicheldever.co.uk/wp-content/uploads/2024/03/Messy-Easter.jpg
END:VEVENT
BEGIN:VEVENT
DTSTART;TZID=Europe/London:20240329T100000
DTEND;TZID=Europe/London:20240329T120000
DTSTAMP:20260421T112305
CREATED:20231229T170810Z
LAST-MODIFIED:20231229T171016Z
UID:4038-1711706400-1711713600@stmarysmicheldever.co.uk
SUMMARY:Good Friday 10am Service of quiet devotion and reflection
DESCRIPTION:led by Rev’d Rob Rees
URL:https://stmarysmicheldever.co.uk/event/good-friday-10am-service-of-quiet-devotion-and-reflection/
LOCATION:St Mary the Virgin\, Church Street\, Micheldever\, Hants\, SO21 3DG\, United Kingdom
CATEGORIES:Church Service,Easter
ATTACH;FMTTYPE=image/png:https://stmarysmicheldever.co.uk/wp-content/uploads/2023/12/graphic-4079272_1280.png
END:VEVENT
BEGIN:VEVENT
DTSTART;TZID=Europe/London:20240324T104500
DTEND;TZID=Europe/London:20240324T120000
DTSTAMP:20260421T112305
CREATED:20231229T170207Z
LAST-MODIFIED:20231229T170339Z
UID:4033-1711277100-1711281600@stmarysmicheldever.co.uk
SUMMARY:Palm Sunday - 10.45am Palm Procession followed by 11am Palm Sunday service of Holy Communion
DESCRIPTION:Rt Rev’d Philip Mounstephen\, Bishop of Winchester; Rev’d Dr Robert Rees and Ministry Team
URL:https://stmarysmicheldever.co.uk/event/palm-sunday-palm-procession-followed-by-11am-palm-sunday-service-of-holy-communion/
LOCATION:St Mary the Virgin\, Church Street\, Micheldever\, Hants\, SO21 3DG\, United Kingdom
CATEGORIES:Church Service,Easter
ATTACH;FMTTYPE=image/jpeg:https://stmarysmicheldever.co.uk/wp-content/uploads/2023/12/jesus-4965948_1280.jpg
END:VEVENT
BEGIN:VEVENT
DTSTART;TZID=Europe/London:20240317T180000
DTEND;TZID=Europe/London:20240317T190000
DTSTAMP:20260421T112305
CREATED:20240212T174334Z
LAST-MODIFIED:20240212T174524Z
UID:4098-1710698400-1710702000@stmarysmicheldever.co.uk
SUMMARY:Service of Music on Passion Sunday
DESCRIPTION:Rev’d Rob Rees and Rev’d Canon Andy Trenier\, Canon Precentor at Winchester Cathedral (Preaching) \nwith the musical participation of the Dever Singers
URL:https://stmarysmicheldever.co.uk/event/service-of-music-on-passion-sunday/
LOCATION:St Mary the Virgin\, Church Street\, Micheldever\, Hants\, SO21 3DG\, United Kingdom
CATEGORIES:Church Service,Easter
ATTACH;FMTTYPE=image/jpeg:https://stmarysmicheldever.co.uk/wp-content/uploads/2024/02/Passion-Sunday-Evensong.jpg
END:VEVENT
BEGIN:VEVENT
DTSTART;TZID=Europe/London:20240228T070000
DTEND;TZID=Europe/London:20240228T203000
DTSTAMP:20260421T112305
CREATED:20240225T192329Z
LAST-MODIFIED:20240225T192329Z
UID:4105-1709103600-1709152200@stmarysmicheldever.co.uk
SUMMARY:Lenten Course - Christianity Explored
DESCRIPTION:
URL:https://stmarysmicheldever.co.uk/event/lenten-course-christianity-explored/
CATEGORIES:Easter
ATTACH;FMTTYPE=image/jpeg:https://stmarysmicheldever.co.uk/wp-content/uploads/2024/02/lent-e1708888961522.jpg
END:VEVENT
END:VCALENDAR